Workbook

Sheet DČ+projekty
A1: Režijní přirážky pro vykazování skutečných nepřímých nákladů DČ a projektů za 1 - 12 2017
A3: Režie součásti z výkonů rektorátu : DOPLŇKOVÁ ČINNOST | G3: A
D4: Interní fondy | E4: Informač. zdroje | F4: Rektorát | G4: C e l k e m
A5: Sazba nepřímých nákladů (v Kč) | D5: =jednice!B8 -> 30465.72 | E5: =jednice!D8 -> 38248.97 | F5: =jednice!F8 -> 96672.91 | G5: =SUM(D5:F5) -> 165387.6
A6: Fond pracovní doby 1-12/2017 pracovníků při úvazku 1 v hod. | G6: =jednice!A7 -> 2080
A7: C e l k e m | D7: =D5/G6 -> 14.646981 | E7: =E5/G6 -> 18.388928 | F7: =F5/G6 -> 46.477361 | G7: =D7+E7+F7 -> 79.513269
A9: Režie součásti z výkonů rektorátu : VĚDECKÉ PROJEKTY (např. TAČR,GAČR,VaVpI) | G9: B
D10: Interní fondy | E10: Informač. zdroje | F10: Rektorát | G10: C e l k e m
A11: Sazba nepřímých nákladů (v Kč) | D11: =jednice!B13 -> 25862.44 | E11: =jednice!D13 -> 38248.97 | F11: =jednice!F13 -> 93918.95 | G11: =SUM(D11:F11) -> 158030.36
A12: Fond pracovní doby 1-12/2017 pracovníků při úvazku 1 v hod. | G12: =jednice!A7 -> 2080
A13: C e l k e m | D13: =D11/G12 -> 12.433865 | E13: =E11/G12 -> 18.388928 | F13: =F11/G12 -> 45.153341 | G13: =D13+E13+F13-0.01 -> 75.966135
A15: Režie součásti z výkonů rektorátu : VZDĚLÁVACÍ PROJEKTY (např. OPVK) | G15: C
D16: Interní fondy | E16: Informač. zdroje | F16: Rektorát | G16: C e l k e m
A17: Sazba nepřímých nákladů (v Kč) | D17: =jednice!B20 -> 30465.72 | E17: =jednice!D20 -> 38110.76 | F17: =jednice!F20 -> 96182.53 | G17: =SUM(D17:F17) -> 164759.01
A18: Fond pracovní doby 1-12/2017 pracovníků při úvazku 1 v hod. | G18: =jednice!A7 -> 2080
A19: C e l k e m | D19: =D17/G18 -> 14.646981 | E19: =E17/G18 -> 18.322481 | F19: =F17/G18 -> 46.241601 | G19: =D19+E19+F19 -> 79.211062
A21: Režie z výkonu služeb dané součásti - střediska -
C22: 20110 | D22: 20120 | E22: 20130 | F22: 20140 | G22: 20150 | H22: 20160 | I22: 20170 | J22: 20180 | K22: 20190 | L22: C e l k e m
A23: vybrané náklady | C23: =jednice!B23 -> 144363.48 | D23: =jednice!B24 -> 423758.61 | E23: =jednice!B25 -> 645510.82 | F23: =jednice!B26 -> 356598.03 | G23: =jednice!B27 -> 544063.63 | H23: =jednice!B28 -> 117980.8 | I23: =jednice!B29 -> 1306236.4 | J23: =jednice!B30 -> 438092.51 | K23: =jednice!B31 -> 336030.27 | L23: =SUM(C23:K23) -> 4312634.6
A24: počet osob AP+VVP | C24: =jednice!D23 -> 14.602 | D24: =jednice!D24 -> 11.086 | E24: =jednice!D25 -> 20.826 | F24: =jednice!D26 -> 11.949 | G24: =jednice!D27 -> 5.11 | H24: =jednice!D28 -> 7.58 | I24: =jednice!D29 -> 14.097 | J24: =jednice!D30 -> 6.291 | K24: =jednice!D31 -> 9.869
A25: Fond pracovní doby 1-12/2017 pracovníků při úvazku 1 v hod. | L25: =jednice!A7 -> 2080
A26: režie v Kč/osoba/hod | C26: =C23/C24/L25 -> 4.7531516 | D26: =D23/D24/L25 -> 18.377242 | E26: =E23/E24/L25 -> 14.901649 | F26: =F23/F24/L25 -> 14.347758 | G26: =G23/G24/L25 -> 51.187682 | H26: =H23/H24/L25 -> 7.4830526 | I26: =I23/I24/L25 -> 44.548363 | J26: =J23/J24/L25 -> 33.479796 | K26: =K23/K24/L25 -> 16.369745
A28: Režie z výkonu služeb dané součásti - střediska děkanátu
C29: 20001 | D29: 20810 | E29: 20820 | F29: 20830 | G29: 20840 | H29: 20901 | I29: 20902 | J29: 20903 | K29: 20904 | L29: C e l k e m
A30: vybrané náklady | C30: =jednice!B32 -> 12242472 | D30: =jednice!B33 -> 115097.82 | E30: =jednice!B34 -> 484201.84 | F30: =jednice!B35 -> 179944.61 | G30: =jednice!B36 -> 27696.9 | H30: =jednice!B37 -> 747752.07 | I30: =jednice!B38 -> 363445.21 | J30: =jednice!B39 -> 121400.88 | K30: =jednice!B40 -> 87458.96 | L30: =SUM(C30:K30) -> 14369470
A31: počet osob AP+VVP | L31: =jednice!D41 -> 101.91
A32: Fond pracovní doby 1-12/2017 pracovníků při úvazku 1 v hod. | L32: =jednice!A7 -> 2080
A33: režie v Kč/osoba/hod | L33: =L30/L32/jednice!D41 -> 67.789216
A35: Budova | B35: Náklady na 1 m₂ v Kč/hod | C35: Odpis budovy na 1m₂/hod | K35: Vybrané náklady celkem
A36: U1 | B36: =jednice!E45 -> 0.23994551 | C36: =jednice!H45 -> 0.15784811 | K36: =L23+L30 -> 18682104
A37: U3 | B37: =jednice!E46 -> 0.50686903 | C37: =jednice!H46 -> 0.10910504
A38: U15 | B38: =jednice!E47 -> 0.26520214 | C38: =jednice!H47 -> 0.33055253
A39: U5 | B39: =jednice!E48 -> 0.29030914 | C39: =jednice!H48 -> 0.28484877
A40: U11 | B40: =jednice!E49 -> 0.35012159 | C40: =jednice!H49 -> 0.3416408
A41: U17 | B41: =jednice!E50 -> 0.35944351 | C41: =jednice!H50 -> 0.29709698
A43: *Při stanovení režie je nutné připočítat k hodnotě režie NS a děkanátu i hodnotu režijních nákladů stanovených na
A44: konkrétní činnosti ( A,B,C ) zabezpečované rektorátem

Sheet jednice
D1: J e d n i c e (skutečnost 1 -12/2017)
D2: D Č
A3: Fond prac.doby 1-12/2017 | B3: Inter.fondy | C3: % | D3: Informač.zdroje | E3: % | F3: Rektorát | G3: % | H3: C e l k e m %
B4: 983.99 | D4: 0 | F4: 1587.31
B5: 25862.44 | D5: 138.21 | F5: 490.38
B6: 2095.53 | D6: 38110.76 | F6: 93428.57
A7: 2080 | B7: 1523.76 | D7: 0 | F7: 1166.65
B8: =SUM(B4:B7) -> 30465.72 | C8: =B8/A7 -> 14.646981 | D8: =SUM(D4:D7) -> 38248.97 | E8: =D8/A7 -> 18.388928 | F8: =SUM(F4:F7) -> 96672.91 | G8: =F8/A7 -> 46.477361 | H8: =C8+E8+G8 -> 79.513269
D10: Vědecké projekty | F10: /TAČR,GAČR/
B11: 0 | D11: 138.21 | F11: 490.38
B12: 25862.44 | D12: 38110.76 | F12: 93428.57
B13: =SUM(B11:B12) -> 25862.44 | C13: =B13/A7 -> 12.433865 | D13: =SUM(D11:D12) -> 38248.97 | E13: =D13/A7 -> 18.388928 | F13: =SUM(F11:F12) -> 93918.95 | G13: =F13/A7 -> 45.153341 | H13: =C13+E13+G13-0.01 -> 75.966135
D15: Vzdělávací projekty | F15: /např.OPVK/
B16: 983.99 | D16: 0 | F16: 1587.31
B17: 25862.44 | D17: 38110.76 | F17: 93428.57
B18: 2095.53 | D18: 0 | F18: 1166.65
B19: 1523.76 | D19: 0 | F19: 0
B20: =SUM(B16:B19) -> 30465.72 | C20: =B20/A7 -> 14.646981 | D20: =SUM(D16:D19) -> 38110.76 | E20: =D20/A7 -> 18.322481 | F20: =SUM(F16:F19) -> 96182.53 | G20: =F20/A7 -> 46.241601 | H20: =C20+E20+G20 -> 79.211062
A22: Středisko | B22: Vybrané náklady | D22: FTEp
A23: 20110 | B23: 144363.48 | D23: 14.602
A24: 20120 | B24: 423758.61 | D24: 11.086
A25: 20130 | B25: 645510.82 | D25: 20.826
A26: 20140 | B26: 356598.03 | D26: 11.949
A27: 20150 | B27: 544063.63 | D27: 5.11
A28: 20160 | B28: 117980.8 | D28: 7.58
A29: 20170 | B29: 1306236.4 | D29: 14.097
A30: 20180 | B30: 438092.51 | D30: 6.291
A31: 20190 | B31: 336030.27 | D31: 9.869
A32: 20001 | B32: 12242472
A33: 20810 | B33: 115097.82
A34: 20820 | B34: 484201.84
A35: 20830 | B35: 179944.61
A36: 20840 | B36: 27696.9
A37: 20901 | B37: 747752.07 | D37: 0.5
A38: 20902 | B38: =362559.35+885.86 -> 363445.21
A39: 20903 | B39: 121400.88
A40: 20904 | B40: 87458.96
B41: =SUM(B23:B40) -> 18682104 | D41: =SUM(D23:D40) -> 101.91
B43: Hodnoty skuteč.nepřímých nákladů souvisejících s využitím infrastruktury
A44: Budova | B44: Náklady 1-12/2017 (v Kč) | D44: Plocha k dělení | E44: Cena za 1 m₂ v Kč/hod | F44: Poř.cena budovy | G44: Odpis budovy | H44: Odpis bud.na 1m₂/hod
A45: U1 | B45: 3649646 | D45: 7312.65 | E45: =B45/D45/A7 -> 0.23994551 | F45: 72027571 | G45: 30 | H45: =F45/G45/A7/D45 -> 0.15784811
A46: U3 | B46: 930335 | D46: 882.43 | E46: =B46/D46/A7 -> 0.50686903 | F46: 6007720 | G46: 30 | H46: =F46/G46/A7/D46 -> 0.10910504
A47: U15 | B47: 5855953 | D47: 10615.91 | E47: =B47/D47/A7 -> 0.26520214 | F47: 364948059 | G47: 50 | H47: =F47/G47/D47/A7 -> 0.33055253
A48: U5 | B48: 6702416 | D48: 11099.6 | E48: =B48/D48/A7 -> 0.29030914 | F48: 328817566 | G48: 50 | H48: =F48/G48/D48/A7 -> 0.28484877
A49: U11 | B49: 3763276 | D49: 5167.54 | E49: =B49/D49/A7 -> 0.35012159 | F49: 146884814 | G49: 40 | H49: =F49/G49/D49/A7 -> 0.3416408
A50: U17 | B50: 7385878 | D50: 9878.89 | E50: =B50/D50/A7 -> 0.35944351 | F50: 305238787 | G50: 50 | H50: =F50/G50/D50/A7 -> 0.29709698
