Workbook

Sheet jednice
E1: Zadání a výpočet j e d n i c e | H1: ROK 2018
E2: D Č
A3: Rok | B3: Fond prac.doby vč.svátků | C3: Inter.fondy (plán 2018) | D3: % | E3: Informač. zdroje (plán 2018) | F3: % | G3: Rektorát | H3: % | I3: C e l k e m %
C4: 1051.23 | E4: 5353.58 | G4: 2501
C5: 36250.29 | E5: 39656.04 | G5: 650.67
A6: 2017 | B6: 2080 | C6: 2236.67 | G6: 107730.13
A7: 2018 | B7: 2088 | C7: 8332.41 | G7: 1281
C8: =SUM(C4:C7) -> 47870.6 | D8: =C8/B7 -> 22.926533 | E8: =SUM(E4:E7) -> 45009.62 | F8: =E8/B7 -> 21.556331 | G8: =SUM(G4:G7) -> 112162.8 | H8: =G8/B7 -> 53.717816 | I8: =D8+F8+H8 -> 98.20068
E10: Vědecké projekty | G10: /TAČR,GAČR/
C11: 0 | E11: 5353.58 | G11: 650.67
C12: 36250.29 | E12: 39656.04 | G12: 107730.13
C13: =C11+C12 -> 36250.29 | D13: =C13/B7 -> 17.36125 | E13: =SUM(E11:E12) -> 45009.62 | F13: =E13/B7 -> 21.556331 | G13: =SUM(G11:G12) -> 108380.8 | H13: =G13/B7 -> 51.906513 | I13: =D13+F13+H13+0.01 -> 90.834095
E15: Vzdělávací projekty | G15: /např.OPVK/
C16: 1051.23 | E16: 0 | G16: 2501
C17: 36250.29 | E17: 39656.04 | G17: 107730.13
C18: 2236.67 | E18: 0 | G18: 1281
C19: 8332.41 | E19: 0 | G19: 0
C20: =SUM(C16:C19) -> 47870.6 | D20: =C20/B7 -> 22.926533 | E20: =SUM(E16:E19) -> 39656.04 | F20: =E20/B7 -> 18.992356 | G20: =SUM(G16:G19) -> 111512.13 | H20: =G20/B7 -> 53.406193 | I20: =D20+F20+H20 -> 95.325081
B22: Středisko | C22: Vybrané náklady SAP (skuteč.2017) | E22: FTEp (skuteč.2017)
B23: 20110 | C23: 144363.48 | E23: 13.6
B24: 20120 | C24: 423758.61 | E24: 11.235
B25: 20130 | C25: 645510.82 | E25: 20.999
B26: 20140 | C26: 356598.03 | E26: 11.732
B27: 20150 | C27: 544063.63 | E27: =3.378+0.782 -> 4.16
B28: 20160 | C28: 117980.8 | E28: =7.358+0.915 -> 8.273
B29: 20170 | C29: 1306236.4 | E29: 13.964
B30: 20180 | C30: 438092.51 | E30: =7.003+0.252 -> 7.255
B31: 20190 | C31: 336030.27 | E31: 8.5
B32: 20001 | C32: 12242472
B33: 20810 | C33: 115097.82
B34: 20820 | C34: 484201.84
B35: 20830 | C35: 179944.61
B36: 20840 | C36: 27696.9 | E36: =0.167+0.1 -> 0.267
B37: 20901 | C37: 747752.07 | E37: 0.5
B38: 20902 | C38: =362559.35+885.86 -> 363445.21
B39: 20903 | C39: 121400.88
B40: 20904 | C40: 87458.96
C41: =SUM(C23:C40) -> 18682104 | E41: =SUM(E23:E40) -> 100.485
B43: Budova | C43: Plánované roční náklady 2018 (v Kč) | E43: Plocha k dělení | F43: Cena za 1 m₂ v Kč/hod | G43: Poř.cena budovy | H43: Odpis budovy | I43: Odpis bud.na 1m₂/hod
B44: U1 | C44: 4037752 | E44: 7312.65 | F44: =C44/E44/B7 -> 0.26444439 | G44: 72291895 | H44: 30 | I44: =G44/H44/B7/E44 -> 0.15782038
...

Sheet DČ+projekty
A1: Režijní přirážky pro uplatňování nepřímých nákladů DČ a projektů pro rok 2018
A3: Režie součásti z výkonů rektorátu : DOPLŇKOVÁ ČINNOST | G3: A
D4: Interní fondy | E4: Informač. zdroje | F4: Rektorát | G4: C e l k e m
A5: Sazba nepřímých nákladů (v Kč plán 2018) | D5: =jednice!C8 -> 47870.6 | E5: =jednice!E8 -> 45009.62 | F5: =jednice!G8 -> 112162.8 | G5: =SUM(D5:F5) -> 205043.02
A6: Roční časový fond pracovníků při úvazku 1 v hod (skuteč.2018) | D6: =jednice!B7 -> 2088 | E6: =jednice!B7 -> 2088 | F6: =jednice!B7 -> 2088
A7: C e l k e m | D7: =D5/D6 -> 22.926533 | E7: =E5/E6 -> 21.556331 | F7: =F5/F6 -> 53.717816 | G7: =D7+E7+F7 -> 98.20068
A9: Režie součásti z výkonů rektorátu : VĚDECKÉ PROJEKTY (např. TAČR, GAČR, VaVpI) | G9: B
D10: Interní fondy | E10: Informač . zdroje | F10: Rektorát | G10: C e l k e m
A11: Sazba nepřímých nákladů (v Kč plán 2018) | D11: =jednice!C13 -> 36250.29 | E11: =jednice!E13 -> 45009.62 | F11: =jednice!G13 -> 108380.8 | G11: =SUM(D11:F11) -> 189640.71
A12: Roční časový fond pracovníků při úvazku 1 v hod (skuteč.2018) | D12: =jednice!B7 -> 2088 | E12: =jednice!B7 -> 2088 | F12: =jednice!B7 -> 2088
A13: C e l k e m | D13: =D11/D12 -> 17.36125 | E13: =E11/E12 -> 21.556331 | F13: =F11/F12 -> 51.906513 | G13: =D13+E13+F13+0.01 -> 90.834095
A15: Režie součásti z výkonů rektorátu : VZDĚLÁVACÍ PROJEKTY (např. OPVK) | G15: C
D16: Interní fondy | E16: Informač. zdroje | F16: Rektorát | G16: C e l k e m
A17: Sazba nepřímých nákladů (v Kč plán 2018) | D17: =jednice!C20 -> 47870.6 | E17: =jednice!E20 -> 39656.04 | F17: =jednice!G20 -> 111512.13 | G17: =SUM(D17:F17) -> 199038.77
A18: Roční časový fond pracovníků při úvazku 1 v hod (skuteč.2018) | D18: =jednice!B7 -> 2088 | E18: =jednice!B7 -> 2088 | F18: =jednice!B7 -> 2088
A19: celkem | D19: =D17/D18 -> 22.926533 | E19: =E17/E18 -> 18.992356 | F19: =F17/F18 -> 53.406193 | G19: =D19+E19+F19 -> 95.325081
A21: Režie z výkonu služeb dané součásti - střediska -
C22: 20110 | D22: 20120 | E22: 20130 | F22: 20140 | G22: 20150 | H22: 20160 | I22: 20170 | J22: 20180 | K22: 20190 | L22: C e l k e m
A23: Vybrané náklady SAP(skuteč.2017) | C23: =jednice!C23 -> 144363.48 | D23: =jednice!C24 -> 423758.61 | E23: =jednice!C25 -> 645510.82 | F23: =jednice!C26 -> 356598.03 | G23: =jednice!C27 -> 544063.63 | H23: =jednice!C28 -> 117980.8 | I23: =jednice!C29 -> 1306236.4 | J23: =jednice!C30 -> 438092.51 | K23: =jednice!C31 -> 336030.27 | L23: =SUM(C23:K23) -> 4312634.6
A24: počet osob AP+VVP (skuteč.2017) | C24: =jednice!E23 -> 13.6 | D24: =jednice!E24 -> 11.235 | E24: =jednice!E25 -> 20.999 | F24: =jednice!E26 -> 11.732 | G24: =jednice!E27 -> 4.16 | H24: =jednice!E28 -> 8.273 | I24: =jednice!E29 -> 13.964 | J24: =jednice!E30 -> 7.255 | K24: =jednice!E31 -> 8.5
A25: Roční časový fond pracovníků při úvazku 1 v hod (skuteč.2017) | C25: 2080 | D25: 2080 | E25: 2080 | F25: =jednice!B6 -> 2080 | G25: =jednice!B6 -> 2080 | H25: =jednice!B6 -> 2080 | I25: =jednice!B6 -> 2080 | J25: =jednice!B6 -> 2080 | K25: =jednice!B6 -> 2080
A26: režie v Kč/osoba/hod | C26: =C23/C24/C25 -> 5.103347 | D26: =D23/D24/D25 -> 18.13352 | E26: =E23/E24/E25 -> 14.778882 | F26: =F23/F24/F25 -> 14.61314 | G26: =G23/G24/G25 -> 62.877176 | H26: =H23/H24/H25 -> 6.8562237 | I26: =I23/I24/I25 -> 44.972664 | J26: =J23/J24/J25 -> 29.031206 | K26: =K23/K24/K25 -> 19.006237
A28: Režie z výkonu služeb dané součásti - střediska děkanátu
C29: 20001 | D29: 20810 | E29: 20820 | F29: 20830 | G29: 20840 | H29: 20901 | I29: 20902 | J29: 20903 | K29: 20904 | L29: C e l k e m
A30: Vybrané náklady SAP(skuteč.2017) | C30: =jednice!C32 -> 12242472 | D30: =jednice!C33 -> 115097.82 | E30: =jednice!C34 -> 484201.84 | F30: =jednice!C35 -> 179944.61 | G30: =jednice!C36 -> 27696.9 | H30: =jednice!C37 -> 747752.07 | I30: =jednice!C38 -> 363445.21 | J30: =jednice!C39 -> 121400.88 | K30: =jednice!C40 -> 87458.96 | L30: =C30+D30+E30+F30+G30+H30+I30+J30+K30 -> 14369470
A31: počet osob AP+VVP (skuteč.2017) | G31: 0.267 | H31: 0.5 | L31: =jednice!E41 -> 100.485
A32: Roční časový fond pracovníků při úvazku 1 v hod (skuteč.2017) | C32: =jednice!B6 -> 2080 | D32: =jednice!B6 -> 2080 | E32: =jednice!B6 -> 2080 | F32: =jednice!B6 -> 2080 | G32: =jednice!B6 -> 2080 | H32: =jednice!B6 -> 2080 | I32: =jednice!B6 -> 2080 | J32: =jednice!B6 -> 2080 | K32: =jednice!B6 -> 2080
A33: režie v Kč/osoba/hod | K33: =L30/L31/K32 -> 68.750549
A35: Budova | B35: Náklady na 1 m₂ v Kč/hod | C35: Odpis budovy na 1m₂/hod | D35: Budova | E35: Náklady na 1 m₂ v Kč/hod | F35: Odpis budovy na 1m₂/hod | K35: Vybrané náklady celkem
A36: U1 | B36: =jednice!F44 -> 0.26444439 | C36: =jednice!I44 -> 0.15782038 | D36: U5 | E36: =jednice!F47 -> 0.30224507 | F36: =jednice!I47 -> 0.2902345 | K36: =L23+L30 -> 18682104
A37: U3 | B37: =jednice!F45 -> 0.51489654 | C37: =jednice!I45 -> 0.10868702 | D37: U11 | E37: =jednice!F48 -> 0.3343972 | F37: =jednice!I48 -> 0.35926225
A38: U15 | B38: =jednice!F46 -> 0.29914937 | C38: =jednice!I46 -> 0.32932915 | D38: U17 | E38: =jednice!F49 -> 0.41528226 | F38: =jednice!I49 -> 0.29595867
A40: *Při stanovení režie je nutné připočítat k hodnotě režie NS a děkanátu i hodnotu režijních nákladů stanovených na
A41: konkrétní činnosti ( A,B,C ) zabezpečované rektorátem
